BEGIN:VCALENDAR
VERSION:2.0
PRODID:-//Antón Davila - ECPv6.15.20//NONSGML v1.0//EN
CALSCALE:GREGORIAN
METHOD:PUBLISH
X-WR-CALNAME:Antón Davila
X-ORIGINAL-URL:https://antondavila.com
X-WR-CALDESC:Eventos para Antón Davila
REFRESH-INTERVAL;VALUE=DURATION:PT1H
X-Robots-Tag:noindex
X-PUBLISHED-TTL:PT1H
BEGIN:VTIMEZONE
TZID:Europe/Madrid
BEGIN:DAYLIGHT
TZOFFSETFROM:+0100
TZOFFSETTO:+0200
TZNAME:CEST
DTSTART:20240331T010000
END:DAYLIGHT
BEGIN:STANDARD
TZOFFSETFROM:+0200
TZOFFSETTO:+0100
TZNAME:CET
DTSTART:20241027T010000
END:STANDARD
BEGIN:DAYLIGHT
TZOFFSETFROM:+0100
TZOFFSETTO:+0200
TZNAME:CEST
DTSTART:20250330T010000
END:DAYLIGHT
BEGIN:STANDARD
TZOFFSETFROM:+0200
TZOFFSETTO:+0100
TZNAME:CET
DTSTART:20251026T010000
END:STANDARD
BEGIN:DAYLIGHT
TZOFFSETFROM:+0100
TZOFFSETTO:+0200
TZNAME:CEST
DTSTART:20260329T010000
END:DAYLIGHT
BEGIN:STANDARD
TZOFFSETFROM:+0200
TZOFFSETTO:+0100
TZNAME:CET
DTSTART:20261025T010000
END:STANDARD
BEGIN:DAYLIGHT
TZOFFSETFROM:+0100
TZOFFSETTO:+0200
TZNAME:CEST
DTSTART:20270328T010000
END:DAYLIGHT
BEGIN:STANDARD
TZOFFSETFROM:+0200
TZOFFSETTO:+0100
TZNAME:CET
DTSTART:20271031T010000
END:STANDARD
END:VTIMEZONE
BEGIN:VEVENT
DTSTART;TZID=Europe/Madrid:20260418T210000
DTEND;TZID=Europe/Madrid:20260418T230000
DTSTAMP:20260422T143650
CREATED:20250905T212949Z
LAST-MODIFIED:20250905T212950Z
UID:5921-1776546000-1776553200@antondavila.com
SUMMARY:Valladolid
DESCRIPTION:Con Celtas Cortos
URL:https://antondavila.com/event/valladolid-8/
LOCATION:Pabellón Polideportivo Pisuerga\, Plaza de Méjico\, s/n\, Valladolid\, Spain
END:VEVENT
BEGIN:VEVENT
DTSTART;TZID=Europe/Madrid:20260411T210000
DTEND;TZID=Europe/Madrid:20260411T230000
DTSTAMP:20260422T143650
CREATED:20250905T212700Z
LAST-MODIFIED:20260410T160843Z
UID:5917-1775941200-1775948400@antondavila.com
SUMMARY:A Coruña
DESCRIPTION:Con Celtas Cortos
URL:https://antondavila.com/event/a-coruna-2/
LOCATION:Sala Pelícano\, A Coruña\, Avenida do Porto\, 3\, A Coruña\, Spain
END:VEVENT
BEGIN:VEVENT
DTSTART;TZID=Europe/Madrid:20260321T210000
DTEND;TZID=Europe/Madrid:20260321T230000
DTSTAMP:20260422T143650
CREATED:20250905T212538Z
LAST-MODIFIED:20250905T212539Z
UID:5915-1774126800-1774134000@antondavila.com
SUMMARY:Murcia
DESCRIPTION:Con Celtas Cortos
URL:https://antondavila.com/event/murcia/
LOCATION:Palacio de los Deportes\, Avda. del Rocío\, 7\, Murcia\, Spain
END:VEVENT
BEGIN:VEVENT
DTSTART;TZID=Europe/Madrid:20260314T210000
DTEND;TZID=Europe/Madrid:20260314T230000
DTSTAMP:20260422T143650
CREATED:20250905T212414Z
LAST-MODIFIED:20250905T212415Z
UID:5913-1773522000-1773529200@antondavila.com
SUMMARY:Barcelona
DESCRIPTION:Con Celtas Cortos
URL:https://antondavila.com/event/barcelona-3/
LOCATION:Sant Jordi Club\, Passeig Olimpic\, 5-7\, Barcelona\, Spain
END:VEVENT
BEGIN:VEVENT
DTSTART;TZID=Europe/Madrid:20260228T210000
DTEND;TZID=Europe/Madrid:20260228T230000
DTSTAMP:20260422T143650
CREATED:20250905T212257Z
LAST-MODIFIED:20250905T212258Z
UID:5911-1772312400-1772319600@antondavila.com
SUMMARY:Pamplona
DESCRIPTION:Con Celtas Cortos
URL:https://antondavila.com/event/pamplona/
LOCATION:Navarra Arena\, Calle del Sadar\, 59D-1\, Pamplona\, Spain
END:VEVENT
BEGIN:VEVENT
DTSTART;TZID=Europe/Madrid:20260227T210000
DTEND;TZID=Europe/Madrid:20260227T230000
DTSTAMP:20260422T143650
CREATED:20250905T211955Z
LAST-MODIFIED:20250905T212122Z
UID:5908-1772226000-1772233200@antondavila.com
SUMMARY:Zaragoza
DESCRIPTION:Con Celtas Cortos
URL:https://antondavila.com/event/zaragoza-6/
LOCATION:Pabellón Príncipe Felipe\, Avenida de Cesáreo Alierta\, 120\, Zaragoza\, Spain
END:VEVENT
BEGIN:VEVENT
DTSTART;TZID=Europe/Madrid:20260221T210000
DTEND;TZID=Europe/Madrid:20260221T230000
DTSTAMP:20260422T143650
CREATED:20250905T211648Z
LAST-MODIFIED:20250905T211835Z
UID:5904-1771707600-1771714800@antondavila.com
SUMMARY:Gijón
DESCRIPTION:Con Celtas Cortos
URL:https://antondavila.com/event/gijon/
LOCATION:Gijón Arena\, Avenida de la Costa\, 1\, Gijón\, Spain
END:VEVENT
BEGIN:VEVENT
DTSTART;TZID=Europe/Madrid:20260214T210000
DTEND;TZID=Europe/Madrid:20260214T230000
DTSTAMP:20260422T143650
CREATED:20250905T211406Z
LAST-MODIFIED:20250905T211407Z
UID:5901-1771102800-1771110000@antondavila.com
SUMMARY:Valencia
DESCRIPTION:Con Celtas Cortos
URL:https://antondavila.com/event/valencia-2/
LOCATION:Roig Arena\, Calle del Bomber Ramon Duart\, 12\, Valencia\, Spain
END:VEVENT
BEGIN:VEVENT
DTSTART;TZID=Europe/Madrid:20260207T210000
DTEND;TZID=Europe/Madrid:20260207T230000
DTSTAMP:20260422T143650
CREATED:20250905T211045Z
LAST-MODIFIED:20250905T211457Z
UID:5899-1770498000-1770505200@antondavila.com
SUMMARY:Madrid
DESCRIPTION:Con Celtas Cortos
URL:https://antondavila.com/event/madrid-8/
LOCATION:Movistar Arena\, Avenida Felipe II\, Madrid\, Spain
END:VEVENT
BEGIN:VEVENT
DTSTART;TZID=Europe/Madrid:20250515T000000
DTEND;TZID=Europe/Madrid:20250515T000000
DTSTAMP:20260422T143650
CREATED:20250905T205934Z
LAST-MODIFIED:20250905T205934Z
UID:5898-1747267200-1747267200@antondavila.com
SUMMARY:Bilbao
DESCRIPTION:
URL:https://antondavila.com/event/bilbao/
END:VEVENT
BEGIN:VEVENT
DTSTART;TZID=Europe/Madrid:20250511T000000
DTEND;TZID=Europe/Madrid:20250511T000000
DTSTAMP:20260422T143650
CREATED:20250905T205816Z
LAST-MODIFIED:20250905T205816Z
UID:5897-1746921600-1746921600@antondavila.com
SUMMARY:Barcelona
DESCRIPTION:
URL:https://antondavila.com/event/barcelona-2/
END:VEVENT
BEGIN:VEVENT
DTSTART;TZID=Europe/Madrid:20250426T000000
DTEND;TZID=Europe/Madrid:20250426T000000
DTSTAMP:20260422T143650
CREATED:20250905T205816Z
LAST-MODIFIED:20250905T205816Z
UID:5896-1745625600-1745625600@antondavila.com
SUMMARY:Las Palmas (Islas Canarias)
DESCRIPTION:
URL:https://antondavila.com/event/las-palmas-islas-canarias-2/
END:VEVENT
BEGIN:VEVENT
DTSTART;TZID=Europe/Madrid:20250420T000000
DTEND;TZID=Europe/Madrid:20250420T000000
DTSTAMP:20260422T143650
CREATED:20250905T205816Z
LAST-MODIFIED:20250905T205816Z
UID:5895-1745107200-1745107200@antondavila.com
SUMMARY:Salou (Tarragona)
DESCRIPTION:
URL:https://antondavila.com/event/salou-tarragona-2/
END:VEVENT
BEGIN:VEVENT
DTSTART;TZID=Europe/Madrid:20250411T000000
DTEND;TZID=Europe/Madrid:20250411T000000
DTSTAMP:20260422T143650
CREATED:20250905T205816Z
LAST-MODIFIED:20250905T205816Z
UID:5894-1744329600-1744329600@antondavila.com
SUMMARY:Albacete
DESCRIPTION:
URL:https://antondavila.com/event/albacete-4/
END:VEVENT
BEGIN:VEVENT
DTSTART;TZID=Europe/Madrid:20250405T000000
DTEND;TZID=Europe/Madrid:20250405T000000
DTSTAMP:20260422T143650
CREATED:20250905T205816Z
LAST-MODIFIED:20250905T205816Z
UID:5893-1743811200-1743811200@antondavila.com
SUMMARY:Zaragoza
DESCRIPTION:
URL:https://antondavila.com/event/zaragoza-5/
END:VEVENT
BEGIN:VEVENT
DTSTART;TZID=Europe/Madrid:20250403T000000
DTEND;TZID=Europe/Madrid:20250403T000000
DTSTAMP:20260422T143650
CREATED:20250905T205801Z
LAST-MODIFIED:20250905T205801Z
UID:5892-1743638400-1743638400@antondavila.com
SUMMARY:Alicante
DESCRIPTION:
URL:https://antondavila.com/event/alicante-4/
END:VEVENT
BEGIN:VEVENT
DTSTART;TZID=Europe/Madrid:20250322T000000
DTEND;TZID=Europe/Madrid:20250322T000000
DTSTAMP:20260422T143650
CREATED:20250905T205801Z
LAST-MODIFIED:20250905T205801Z
UID:5891-1742601600-1742601600@antondavila.com
SUMMARY:Roquetas de Mar (Almería)
DESCRIPTION:
URL:https://antondavila.com/event/roquetas-de-mar-almeria-2/
END:VEVENT
BEGIN:VEVENT
DTSTART;TZID=Europe/Madrid:20250321T000000
DTEND;TZID=Europe/Madrid:20250321T000000
DTSTAMP:20260422T143650
CREATED:20250905T205801Z
LAST-MODIFIED:20250905T205801Z
UID:5890-1742515200-1742515200@antondavila.com
SUMMARY:Granada
DESCRIPTION:
URL:https://antondavila.com/event/granada/
END:VEVENT
BEGIN:VEVENT
DTSTART;TZID=Europe/Madrid:20250316T000000
DTEND;TZID=Europe/Madrid:20250316T000000
DTSTAMP:20260422T143650
CREATED:20250905T205801Z
LAST-MODIFIED:20250905T205801Z
UID:5889-1742083200-1742083200@antondavila.com
SUMMARY:Palma de Mallorca (Islas Baleares)
DESCRIPTION:
URL:https://antondavila.com/event/palma-de-mallorca-islas-baleares/
END:VEVENT
BEGIN:VEVENT
DTSTART;TZID=Europe/Madrid:20250314T000000
DTEND;TZID=Europe/Madrid:20250314T000000
DTSTAMP:20260422T143650
CREATED:20250905T205800Z
LAST-MODIFIED:20250905T205800Z
UID:5888-1741910400-1741910400@antondavila.com
SUMMARY:Burgos
DESCRIPTION:
URL:https://antondavila.com/event/burgos-4/
END:VEVENT
BEGIN:VEVENT
DTSTART;TZID=Europe/Madrid:20250308T000000
DTEND;TZID=Europe/Madrid:20250308T000000
DTSTAMP:20260422T143650
CREATED:20250905T205746Z
LAST-MODIFIED:20250905T205746Z
UID:5887-1741392000-1741392000@antondavila.com
SUMMARY:Logroño (La Rioja)
DESCRIPTION:
URL:https://antondavila.com/event/logrono-la-rioja-2/
END:VEVENT
BEGIN:VEVENT
DTSTART;TZID=Europe/Madrid:20250307T000000
DTEND;TZID=Europe/Madrid:20250307T000000
DTSTAMP:20260422T143650
CREATED:20250905T205745Z
LAST-MODIFIED:20250905T205745Z
UID:5886-1741305600-1741305600@antondavila.com
SUMMARY:Elche (Alicante)
DESCRIPTION:
URL:https://antondavila.com/event/elche-alicante-3/
END:VEVENT
BEGIN:VEVENT
DTSTART;TZID=Europe/Madrid:20250304T000000
DTEND;TZID=Europe/Madrid:20250304T000000
DTSTAMP:20260422T143650
CREATED:20250905T205745Z
LAST-MODIFIED:20250905T205745Z
UID:5885-1741046400-1741046400@antondavila.com
SUMMARY:Madrid
DESCRIPTION:
URL:https://antondavila.com/event/madrid-7/
END:VEVENT
BEGIN:VEVENT
DTSTART;TZID=Europe/Madrid:20250303T000000
DTEND;TZID=Europe/Madrid:20250303T000000
DTSTAMP:20260422T143650
CREATED:20250905T205745Z
LAST-MODIFIED:20250905T205745Z
UID:5884-1740960000-1740960000@antondavila.com
SUMMARY:Madrid
DESCRIPTION:
URL:https://antondavila.com/event/madrid-6/
END:VEVENT
BEGIN:VEVENT
DTSTART;TZID=Europe/Madrid:20250215T000000
DTEND;TZID=Europe/Madrid:20250215T000000
DTSTAMP:20260422T143650
CREATED:20250905T205745Z
LAST-MODIFIED:20250905T205745Z
UID:5883-1739577600-1739577600@antondavila.com
SUMMARY:Valladolid
DESCRIPTION:
URL:https://antondavila.com/event/valladolid-7/
END:VEVENT
BEGIN:VEVENT
DTSTART;TZID=Europe/Madrid:20250214T000000
DTEND;TZID=Europe/Madrid:20250214T000000
DTSTAMP:20260422T143650
CREATED:20250905T205744Z
LAST-MODIFIED:20250905T205744Z
UID:5882-1739491200-1739491200@antondavila.com
SUMMARY:Pamplona (Navarra)
DESCRIPTION:
URL:https://antondavila.com/event/pamplona-navarra-2/
END:VEVENT
BEGIN:VEVENT
DTSTART;TZID=Europe/Madrid:20250201T000000
DTEND;TZID=Europe/Madrid:20250201T000000
DTSTAMP:20260422T143650
CREATED:20250905T205744Z
LAST-MODIFIED:20250905T205744Z
UID:5881-1738368000-1738368000@antondavila.com
SUMMARY:Donostia (Guipuzkoa)
DESCRIPTION:
URL:https://antondavila.com/event/donostia-guipuzkoa/
END:VEVENT
BEGIN:VEVENT
DTSTART;TZID=Europe/Madrid:20250124T000000
DTEND;TZID=Europe/Madrid:20250124T000000
DTSTAMP:20260422T143650
CREATED:20250905T205744Z
LAST-MODIFIED:20250905T205744Z
UID:5880-1737676800-1737676800@antondavila.com
SUMMARY:Lleida (Cataluña)
DESCRIPTION:
URL:https://antondavila.com/event/lleida-cataluna/
END:VEVENT
BEGIN:VEVENT
DTSTART;TZID=Europe/Madrid:20250118T000000
DTEND;TZID=Europe/Madrid:20250118T000000
DTSTAMP:20260422T143650
CREATED:20250905T205743Z
LAST-MODIFIED:20250905T205743Z
UID:5879-1737158400-1737158400@antondavila.com
SUMMARY:Cartagena (Murcia)
DESCRIPTION:
URL:https://antondavila.com/event/cartagena-murcia/
END:VEVENT
BEGIN:VEVENT
DTSTART;TZID=Europe/Madrid:20250111T000000
DTEND;TZID=Europe/Madrid:20250111T000000
DTSTAMP:20260422T143650
CREATED:20250905T205743Z
LAST-MODIFIED:20250905T205743Z
UID:5878-1736553600-1736553600@antondavila.com
SUMMARY:La Nucía (Alicante)
DESCRIPTION:
URL:https://antondavila.com/event/la-nucia-alicante/
END:VEVENT
END:VCALENDAR