BEGIN:VCALENDAR
VERSION:2.0
PRODID:-//Antón Davila - ECPv6.15.20//NONSGML v1.0//EN
CALSCALE:GREGORIAN
METHOD:PUBLISH
X-ORIGINAL-URL:https://antondavila.com
X-WR-CALDESC:Eventos para Antón Davila
REFRESH-INTERVAL;VALUE=DURATION:PT1H
X-Robots-Tag:noindex
X-PUBLISHED-TTL:PT1H
BEGIN:VTIMEZONE
TZID:Europe/Madrid
BEGIN:DAYLIGHT
TZOFFSETFROM:+0100
TZOFFSETTO:+0200
TZNAME:CEST
DTSTART:20250330T010000
END:DAYLIGHT
BEGIN:STANDARD
TZOFFSETFROM:+0200
TZOFFSETTO:+0100
TZNAME:CET
DTSTART:20251026T010000
END:STANDARD
BEGIN:DAYLIGHT
TZOFFSETFROM:+0100
TZOFFSETTO:+0200
TZNAME:CEST
DTSTART:20260329T010000
END:DAYLIGHT
BEGIN:STANDARD
TZOFFSETFROM:+0200
TZOFFSETTO:+0100
TZNAME:CET
DTSTART:20261025T010000
END:STANDARD
BEGIN:DAYLIGHT
TZOFFSETFROM:+0100
TZOFFSETTO:+0200
TZNAME:CEST
DTSTART:20270328T010000
END:DAYLIGHT
BEGIN:STANDARD
TZOFFSETFROM:+0200
TZOFFSETTO:+0100
TZNAME:CET
DTSTART:20271031T010000
END:STANDARD
END:VTIMEZONE
BEGIN:VEVENT
DTSTART;TZID=Europe/Madrid:20260314T210000
DTEND;TZID=Europe/Madrid:20260314T230000
DTSTAMP:20260423T004151
CREATED:20250905T212414Z
LAST-MODIFIED:20250905T212415Z
UID:5913-1773522000-1773529200@antondavila.com
SUMMARY:Barcelona
DESCRIPTION:Con Celtas Cortos
URL:https://antondavila.com/event/barcelona-3/
LOCATION:Sant Jordi Club\, Passeig Olimpic\, 5-7\, Barcelona\, Spain
END:VEVENT
BEGIN:VEVENT
DTSTART;TZID=Europe/Madrid:20260321T210000
DTEND;TZID=Europe/Madrid:20260321T230000
DTSTAMP:20260423T004151
CREATED:20250905T212538Z
LAST-MODIFIED:20250905T212539Z
UID:5915-1774126800-1774134000@antondavila.com
SUMMARY:Murcia
DESCRIPTION:Con Celtas Cortos
URL:https://antondavila.com/event/murcia/
LOCATION:Palacio de los Deportes\, Avda. del Rocío\, 7\, Murcia\, Spain
END:VEVENT
BEGIN:VEVENT
DTSTART;TZID=Europe/Madrid:20260411T210000
DTEND;TZID=Europe/Madrid:20260411T230000
DTSTAMP:20260423T004151
CREATED:20250905T212700Z
LAST-MODIFIED:20260410T160843Z
UID:5917-1775941200-1775948400@antondavila.com
SUMMARY:A Coruña
DESCRIPTION:Con Celtas Cortos
URL:https://antondavila.com/event/a-coruna-2/
LOCATION:Sala Pelícano\, A Coruña\, Avenida do Porto\, 3\, A Coruña\, Spain
END:VEVENT
BEGIN:VEVENT
DTSTART;TZID=Europe/Madrid:20260418T210000
DTEND;TZID=Europe/Madrid:20260418T230000
DTSTAMP:20260423T004151
CREATED:20250905T212949Z
LAST-MODIFIED:20250905T212950Z
UID:5921-1776546000-1776553200@antondavila.com
SUMMARY:Valladolid
DESCRIPTION:Con Celtas Cortos
URL:https://antondavila.com/event/valladolid-8/
LOCATION:Pabellón Polideportivo Pisuerga\, Plaza de Méjico\, s/n\, Valladolid\, Spain
END:VEVENT
END:VCALENDAR